BEGIN:VCALENDAR
VERSION:2.0
PRODID: -//Q4 Inc.//EN
METHOD:PUBLISH
BEGIN:VTIMEZONE
TZID:America/New_York
X-LIC-LOCATION:America/New_York
BEGIN:DAYLIGHT
TZOFFSETFROM:-0500
TZOFFSETTO:-0400
TZNAME:EDT
DTSTART:19700308T020000
RRULE:FREQ=YEARLY;BYMONTH=3;BYDAY=2SU
END:DAYLIGHT
BEGIN:STANDARD
TZOFFSETFROM:-0400
TZOFFSETTO:-0500
TZNAME:EST
DTSTART:19701101T020000
RRULE:FREQ=YEARLY;BYMONTH=11;BYDAY=1SU
END:STANDARD
END:VTIMEZONE
BEGIN:VEVENT
ORGANIZER:MAILTO:no-reply@q4inc.com
DTSTART;TZID="America/New_York":20150212T080000
DTEND;TZID="America/New_York":20150212T080000
LOCATION:
UID:7797358a-a2c2-4d94-9a82-9251625c754e
DTSTAMP:20260424T211600
SUMMARY:Quintiles’ Fourth Quarter 2014 Earnings Call
DESCRIPTION: View More Information: https://ir.iqvia.com/events-and-presentations/events/event-details/2015/Quintiles-Fourth-Quarter-2014-Earnings-Call/default.aspx
URL;VALUE=URI:https://ir.iqvia.com/events-and-presentations/events/event-details/2015/Quintiles-Fourth-Quarter-2014-Earnings-Call/default.aspx
PRIORITY:5
CLASS:PUBLIC
END:VEVENT
END:VCALENDAR
