BEGIN:VCALENDAR
VERSION:2.0
PRODID: -//Q4 Inc.//EN
METHOD:PUBLISH
BEGIN:VTIMEZONE
TZID:America/New_York
X-LIC-LOCATION:America/New_York
BEGIN:DAYLIGHT
TZOFFSETFROM:-0500
TZOFFSETTO:-0400
TZNAME:EDT
DTSTART:19700308T020000
RRULE:FREQ=YEARLY;BYMONTH=3;BYDAY=2SU
END:DAYLIGHT
BEGIN:STANDARD
TZOFFSETFROM:-0400
TZOFFSETTO:-0500
TZNAME:EST
DTSTART:19701101T020000
RRULE:FREQ=YEARLY;BYMONTH=11;BYDAY=1SU
END:STANDARD
END:VTIMEZONE
BEGIN:VEVENT
ORGANIZER:MAILTO:no-reply@q4inc.com
DTSTART;TZID="America/New_York":20160503T080000
DTEND;TZID="America/New_York":20160503T080000
LOCATION:
UID:c39a4ecc-8899-4f61-95df-38a14031e51f
DTSTAMP:20260424T205833
SUMMARY:Quintiles and IMS Health Special Investor Conference Call
DESCRIPTION: View More Information: https://ir.iqvia.com/events-and-presentations/events/event-details/2016/Quintiles-and-IMS-Health-Special-Investor-Conference-Call/default.aspx
URL;VALUE=URI:https://ir.iqvia.com/events-and-presentations/events/event-details/2016/Quintiles-and-IMS-Health-Special-Investor-Conference-Call/default.aspx
PRIORITY:5
CLASS:PUBLIC
END:VEVENT
END:VCALENDAR
